BEGIN:VCALENDAR
VERSION:2.0
PRODID:-//Marzahn-Hellersdorf LIVE//MaHe Events 1.1//DE
CALSCALE:GREGORIAN
METHOD:PUBLISH
BEGIN:VEVENT
UID:mahe-event-1884@cleanup-mahe.de
DTSTAMP:20260425T145750Z
DTSTART:20260425T130000
DTEND:20260425T170000
SUMMARY:Umweltbildung zum Anfassen: Clean up MaHe beim Umweltbildungstag der JFE Anna Landsberger
DESCRIPTION:Lernen\, Mitmachen\, Anpacken – am Samstag\, dem 25. April\, sind wir zu Gast beim Umweltbildungstag der Jugendfreizeiteinrichtung Anna Landsberger in Marzahn. Ab 14 Uhr sind wir vor Ort mit einer Müllsammelaktion und einem Infostand – und freuen uns auf alle\, die Lust haben\, gemeinsam aktiv zu werden.\n\n\n\nDer Umweltbildungstag der JFE Anna Landsberger ist genau der richtige Rahmen für das\, was uns antreibt: zeigen\, dass Umweltschutz keine trockene Theorie ist\, sondern etwas\, das jeder ganz konkret v
LOCATION:Berlin
URL:https://cleanup-mahe.de/veranstaltungen/umweltbildung-zum-anfassen-clean-up-mahe-beim-umweltbildungstag-der-jfe-anna-landsberger/
END:VEVENT
END:VCALENDAR
