BEGIN:VCALENDAR
VERSION:2.0
PRODID:-//Clean up MaHe - ECPv6.15.20//NONSGML v1.0//EN
CALSCALE:GREGORIAN
METHOD:PUBLISH
X-ORIGINAL-URL:https://cleanup-mahe.de
X-WR-CALDESC:Veranstaltungen für Clean up MaHe
REFRESH-INTERVAL;VALUE=DURATION:PT1H
X-Robots-Tag:noindex
X-PUBLISHED-TTL:PT1H
BEGIN:VTIMEZONE
TZID:Europe/Berlin
BEGIN:DAYLIGHT
TZOFFSETFROM:+0100
TZOFFSETTO:+0200
TZNAME:CEST
DTSTART:20240331T010000
END:DAYLIGHT
BEGIN:STANDARD
TZOFFSETFROM:+0200
TZOFFSETTO:+0100
TZNAME:CET
DTSTART:20241027T010000
END:STANDARD
BEGIN:DAYLIGHT
TZOFFSETFROM:+0100
TZOFFSETTO:+0200
TZNAME:CEST
DTSTART:20250330T010000
END:DAYLIGHT
BEGIN:STANDARD
TZOFFSETFROM:+0200
TZOFFSETTO:+0100
TZNAME:CET
DTSTART:20251026T010000
END:STANDARD
BEGIN:DAYLIGHT
TZOFFSETFROM:+0100
TZOFFSETTO:+0200
TZNAME:CEST
DTSTART:20260329T010000
END:DAYLIGHT
BEGIN:STANDARD
TZOFFSETFROM:+0200
TZOFFSETTO:+0100
TZNAME:CET
DTSTART:20261025T010000
END:STANDARD
END:VTIMEZONE
BEGIN:VEVENT
DTSTART;TZID=Europe/Berlin:20250413T140000
DTEND;TZID=Europe/Berlin:20250413T160000
DTSTAMP:20260420T075103
CREATED:20241224T132610Z
LAST-MODIFIED:20250308T013156Z
UID:749-1744552800-1744560000@cleanup-mahe.de
SUMMARY:Müllsammelaktion Mehrower Allee Marzahn
DESCRIPTION:Veranstaltungsankündigung 🗓️\nClean up MaHe lädt euch herzlich zu einer gemeinsamen Müllsammelaktion nach Marzahn ein! \nWann? 🕒\nSonntag\, 13. April 2025\, 14:00 Uhr \nWo? 📍\nMehrower Allee\, Marzahn\nTreffpunkt: vor Mehrower Allee 80\, 12687 Berlin-Marzahn \nLasst uns gemeinsam unsere Nachbarschaft in Marzahn von achtlos weggeworfenem Müll 🗑️ befreien! Jede helfende Hand ist willkommen – egal ob jung oder alt\, mit oder ohne Familie. \nDamit wir für ausreichend Ausrüstung ⚒️ und eine kleine Stärkung 🍏 sorgen können\, gebt uns bitte per E-Mail an info@cleanup-mahe.de Bescheid\, mit wie vielen Personen ihr dabei seid. \nMöchtet ihr auch weiterhin über unsere Aktionen informiert werden? Dann schickt uns gerne eure E-Mail-Adresse ✉️\, damit wir euch in unseren Verteiler aufnehmen können. \nWir freuen uns auf euch! 🙌\nEuer Team von Clean up MaHe ♻️
URL:https://cleanup-mahe.de/event/muellsammelaktion-mehrower/
LOCATION:Mehrower Allee\, Berlin-Marzahn\, 12687\, Germany
CATEGORIES:Müllsammelaktion
ATTACH;FMTTYPE=image/jpeg:https://cleanup-mahe.de/wp-content/uploads/2024/12/20240630_142633-scaled.jpg
ORGANIZER;CN="Clean up MaHe":MAILTO:info@cleanup-mahe.de
END:VEVENT
END:VCALENDAR